BEGIN:VCALENDAR
VERSION:2.0
PRODID:-//Endre Varik'u spordip&auml;evik - ECPv6.15.12.2//NONSGML v1.0//EN
CALSCALE:GREGORIAN
METHOD:PUBLISH
X-ORIGINAL-URL:https://endre.pri.ee/paevik
X-WR-CALDESC:Events for Endre Varik'u spordip&auml;evik
REFRESH-INTERVAL;VALUE=DURATION:PT1H
X-Robots-Tag:noindex
X-PUBLISHED-TTL:PT1H
BEGIN:VTIMEZONE
TZID:UTC
BEGIN:STANDARD
TZOFFSETFROM:+0000
TZOFFSETTO:+0000
TZNAME:UTC
DTSTART:20220101T000000
END:STANDARD
END:VTIMEZONE
BEGIN:VEVENT
DTSTART;TZID=UTC:20231020T080000
DTEND;TZID=UTC:20231022T170000
DTSTAMP:20260422T170451
CREATED:20230430T194257Z
LAST-MODIFIED:20230430T194257Z
UID:2084-1697788800-1697994000@endre.pri.ee
SUMMARY:Saaremaa kolme päeva jooks
DESCRIPTION:
URL:https://endre.pri.ee/paevik/event/saaremaa-kolme-paeva-jooks/
CATEGORIES:Jooksuvõistlused
END:VEVENT
BEGIN:VEVENT
DTSTART;VALUE=DATE:20231008
DTEND;VALUE=DATE:20231009
DTSTAMP:20260422T170451
CREATED:20230430T194142Z
LAST-MODIFIED:20230430T194142Z
UID:2082-1696723200-1696809599@endre.pri.ee
SUMMARY:Viljandi linnajooks
DESCRIPTION:
URL:https://endre.pri.ee/paevik/event/viljandi-linnajooks/
CATEGORIES:Jooksuvõistlused
END:VEVENT
BEGIN:VEVENT
DTSTART;VALUE=DATE:20230909
DTEND;VALUE=DATE:20230910
DTSTAMP:20260422T170451
CREATED:20230430T193916Z
LAST-MODIFIED:20230430T193916Z
UID:2080-1694217600-1694303999@endre.pri.ee
SUMMARY:Tallinna poolmaraton
DESCRIPTION:
URL:https://endre.pri.ee/paevik/event/tallinna-poolmaraton/
CATEGORIES:Jooksuvõistlused
END:VEVENT
BEGIN:VEVENT
DTSTART;VALUE=DATE:20230730
DTEND;VALUE=DATE:20230731
DTSTAMP:20260422T170451
CREATED:20230430T193732Z
LAST-MODIFIED:20230430T193737Z
UID:2078-1690675200-1690761599@endre.pri.ee
SUMMARY:REVIN GRUPP Südasuve Challenge - Võsu 2023
DESCRIPTION:
URL:https://endre.pri.ee/paevik/event/revin-grupp-sudasuve-challenge-vosu-2023/
CATEGORIES:Jooksuvõistlused
END:VEVENT
BEGIN:VEVENT
DTSTART;VALUE=DATE:20230526
DTEND;VALUE=DATE:20230527
DTSTAMP:20260422T170451
CREATED:20230430T192728Z
LAST-MODIFIED:20230430T192728Z
UID:2076-1685059200-1685145599@endre.pri.ee
SUMMARY:Eesti lahtised MV parakergejõustikus 2023
DESCRIPTION:
URL:https://endre.pri.ee/paevik/event/eesti-lahtised-mv-parakergejoustikus-2023/
CATEGORIES:Jooksuvõistlused
END:VEVENT
END:VCALENDAR